BEGIN:VCALENDAR
VERSION:2.0
PRODID:-//The Expedition School - ECPv6.15.20//NONSGML v1.0//EN
CALSCALE:GREGORIAN
METHOD:PUBLISH
X-ORIGINAL-URL:https://expeditionschool.com
X-WR-CALDESC:Events for The Expedition School
REFRESH-INTERVAL;VALUE=DURATION:PT1H
X-Robots-Tag:noindex
X-PUBLISHED-TTL:PT1H
BEGIN:VTIMEZONE
TZID:America/Chicago
BEGIN:DAYLIGHT
TZOFFSETFROM:-0600
TZOFFSETTO:-0500
TZNAME:CDT
DTSTART:20240310T080000
END:DAYLIGHT
BEGIN:STANDARD
TZOFFSETFROM:-0500
TZOFFSETTO:-0600
TZNAME:CST
DTSTART:20241103T070000
END:STANDARD
BEGIN:DAYLIGHT
TZOFFSETFROM:-0600
TZOFFSETTO:-0500
TZNAME:CDT
DTSTART:20250309T080000
END:DAYLIGHT
BEGIN:STANDARD
TZOFFSETFROM:-0500
TZOFFSETTO:-0600
TZNAME:CST
DTSTART:20251102T070000
END:STANDARD
BEGIN:DAYLIGHT
TZOFFSETFROM:-0600
TZOFFSETTO:-0500
TZNAME:CDT
DTSTART:20260308T080000
END:DAYLIGHT
BEGIN:STANDARD
TZOFFSETFROM:-0500
TZOFFSETTO:-0600
TZNAME:CST
DTSTART:20261101T070000
END:STANDARD
END:VTIMEZONE
BEGIN:VEVENT
DTSTART;TZID=America/Chicago:20250408T190000
DTEND;TZID=America/Chicago:20250408T200000
DTSTAMP:20260419T154832
CREATED:20241117T220620Z
LAST-MODIFIED:20241118T033713Z
UID:10002648-1744138800-1744142400@expeditionschool.com
SUMMARY:Wound Care CE
DESCRIPTION:Join The Expedition School’s CE Courses to continue building on the knowledge and skills learned in your medical training pursuits. Upon 100% attendance and successful completion of the CE exam and eval\, students will receive an Expedition School CE certification validating completion. Keep this certification for your recertification application. \nAll CE Courses are led by live Expedition School instructors\, via video conference. Students must have a current membership with The Expedition School\, or have purchased a CE Course Pass in order to receive an invite to the virtual class. Please ensure you have a noise and distraction free environment before logging in to the course. \nMore information on CE Course Passes and Membership levels can be found here.
URL:https://expeditionschool.com/event/wound-care-ce-5/
LOCATION:Online
CATEGORIES:**Blended or Hybrid Learning,CE Course,Safety Courses
ATTACH;FMTTYPE=image/jpeg:https://expeditionschool.com/wp-content/uploads/2024/01/2-jpg.webp
ORGANIZER;CN="The Expedition School":MAILTO:info@expeditionschool.com
END:VEVENT
BEGIN:VEVENT
DTSTART;TZID=America/Chicago:20250413T110000
DTEND;TZID=America/Chicago:20250413T120000
DTSTAMP:20260419T154832
CREATED:20241117T231835Z
LAST-MODIFIED:20241118T033846Z
UID:10002649-1744542000-1744545600@expeditionschool.com
SUMMARY:Respiratory Emergencies CE
DESCRIPTION:Join The Expedition School’s CE Courses to continue building on the knowledge and skills learned in your medical training pursuits. Upon 100% attendance and successful completion of the CE exam and eval\, students will receive an Expedition School CE certification validating completion. Keep this certification for your recertification application. \nAll CE Courses are led by live Expedition School instructors\, via video conference. Students must have a current membership with The Expedition School\, or have purchased a CE Course Pass in order to receive an invite to the virtual class. Please ensure you have a noise and distraction free environment before logging in to the course. \nMore information on CE Course Passes and Membership levels can be found here.
URL:https://expeditionschool.com/event/respiratory-emergencies-ce-4/
LOCATION:Online
CATEGORIES:**Blended or Hybrid Learning,CE Course,Safety Courses
ATTACH;FMTTYPE=image/jpeg:https://expeditionschool.com/wp-content/uploads/2024/01/2-jpg.webp
ORGANIZER;CN="The Expedition School":MAILTO:info@expeditionschool.com
END:VEVENT
BEGIN:VEVENT
DTSTART;TZID=America/Chicago:20250418T190000
DTEND;TZID=America/Chicago:20250418T200000
DTSTAMP:20260419T154832
CREATED:20241117T231746Z
LAST-MODIFIED:20241118T033957Z
UID:10002650-1745002800-1745006400@expeditionschool.com
SUMMARY:Emergency Moves CE
DESCRIPTION:Join The Expedition School’s CE Courses to continue building on the knowledge and skills learned in your medical training pursuits. Upon 100% attendance and successful completion of the CE exam and eval\, students will receive an Expedition School CE certification validating completion. Keep this certification for your recertification application. \nAll CE Courses are led by live Expedition School instructors\, via video conference. Students must have a current membership with The Expedition School\, or have purchased a CE Course Pass in order to receive an invite to the virtual class. Please ensure you have a noise and distraction free environment before logging in to the course. \nMore information on CE Course Passes and Membership levels can be found here.
URL:https://expeditionschool.com/event/emergency-moves-ce-4/
LOCATION:Online
CATEGORIES:**Blended or Hybrid Learning,CE Course,Safety Courses
ATTACH;FMTTYPE=image/jpeg:https://expeditionschool.com/wp-content/uploads/2024/01/2-jpg.webp
ORGANIZER;CN="The Expedition School":MAILTO:info@expeditionschool.com
END:VEVENT
BEGIN:VEVENT
DTSTART;TZID=America/Chicago:20250422T190000
DTEND;TZID=America/Chicago:20250422T200000
DTSTAMP:20260419T154832
CREATED:20241117T231705Z
LAST-MODIFIED:20241118T034112Z
UID:10002651-1745348400-1745352000@expeditionschool.com
SUMMARY:Lightning Safety CE
DESCRIPTION:Join The Expedition School’s CE Courses to continue building on the knowledge and skills learned in your medical training pursuits. Upon 100% attendance and successful completion of the CE exam and eval\, students will receive an Expedition School CE certification validating completion. Keep this certification for your recertification application. \nAll CE Courses are led by live Expedition School instructors\, via video conference. Students must have a current membership with The Expedition School\, or have purchased a CE Course Pass in order to receive an invite to the virtual class. Please ensure you have a noise and distraction free environment before logging in to the course. \nMore information on CE Course Passes and Membership levels can be found here.
URL:https://expeditionschool.com/event/lightning-safety-ce-6/
LOCATION:Online
CATEGORIES:**Blended or Hybrid Learning,CE Course,Safety Courses
ATTACH;FMTTYPE=image/jpeg:https://expeditionschool.com/wp-content/uploads/2024/01/2-jpg.webp
ORGANIZER;CN="The Expedition School":MAILTO:info@expeditionschool.com
END:VEVENT
BEGIN:VEVENT
DTSTART;TZID=America/Chicago:20250426T110000
DTEND;TZID=America/Chicago:20250426T120000
DTSTAMP:20260419T154832
CREATED:20241117T231625Z
LAST-MODIFIED:20241118T034233Z
UID:10002652-1745665200-1745668800@expeditionschool.com
SUMMARY:Legal Considerations and Documentation CE
DESCRIPTION:Join The Expedition School’s CE Courses to continue building on the knowledge and skills learned in your medical training pursuits. Upon 100% attendance and successful completion of the CE exam and eval\, students will receive an Expedition School CE certification validating completion. Keep this certification for your recertification application. \nAll CE Courses are led by live Expedition School instructors\, via video conference. Students must have a current membership with The Expedition School\, or have purchased a CE Course Pass in order to receive an invite to the virtual class. Please ensure you have a noise and distraction free environment before logging in to the course. \nMore information on CE Course Passes and Membership levels can be found here.
URL:https://expeditionschool.com/event/legal-considerations-and-documentation-ce-4/
LOCATION:Online
CATEGORIES:**Blended or Hybrid Learning,CE Course,Safety Courses
ATTACH;FMTTYPE=image/jpeg:https://expeditionschool.com/wp-content/uploads/2024/01/2-jpg.webp
ORGANIZER;CN="The Expedition School":MAILTO:info@expeditionschool.com
END:VEVENT
BEGIN:VEVENT
DTSTART;TZID=America/Chicago:20250430T190000
DTEND;TZID=America/Chicago:20250430T200000
DTSTAMP:20260419T154832
CREATED:20241117T231539Z
LAST-MODIFIED:20241118T034246Z
UID:10002653-1746039600-1746043200@expeditionschool.com
SUMMARY:Medical Maladies CE
DESCRIPTION:Join The Expedition School’s CE Courses to continue building on the knowledge and skills learned in your medical training pursuits. Upon 100% attendance and successful completion of the CE exam and eval\, students will receive an Expedition School CE certification validating completion. Keep this certification for your recertification application. \nAll CE Courses are led by live Expedition School instructors\, via video conference. Students must have a current membership with The Expedition School\, or have purchased a CE Course Pass in order to receive an invite to the virtual class. Please ensure you have a noise and distraction free environment before logging in to the course. \nMore information on CE Course Passes and Membership levels can be found here.
URL:https://expeditionschool.com/event/medical-maladies-ce-4/
LOCATION:Online
CATEGORIES:**Blended or Hybrid Learning,CE Course,Safety Courses
ATTACH;FMTTYPE=image/jpeg:https://expeditionschool.com/wp-content/uploads/2024/01/2-jpg.webp
ORGANIZER;CN="The Expedition School":MAILTO:info@expeditionschool.com
END:VEVENT
END:VCALENDAR